BEGIN:VCALENDAR
VERSION:2.0
PRODID:-//Tukios.com/
BEGIN:VEVENT
UID:5ab8033d-90d9-48ab-8b3d-b4cd2a5210db@www.rmackowiak.com
DTSTAMP:20260425T161700Z
DTSTART:20260725T190000Z
DTEND:20260725T200000Z
SUMMARY:Celebration of Life
DESCRIPTION:
URL:https://www.rmackowiak.com/obituaries/kathleen-barton
LOCATION:Clarion Hotel Conference Center on Lake Erie 30 Lake Shore Dr E  
	Dunkirk NY 14048
GEO:42.4884874;-79.3321212
END:VEVENT
END:VCALENDAR