BEGIN:VCALENDAR
VERSION:2.0
PRODID:-//Tukios.com/
BEGIN:VEVENT
UID:d8b0f859-d07b-4bad-957d-1506d002c7f3@www.rmackowiak.com
DTSTAMP:20260420T235001Z
DTSTART:20260424T150000Z
DTEND:20260424T160000Z
SUMMARY:Mass
DESCRIPTION:
URL:https://www.rmackowiak.com/obituaries/florence-cybart
LOCATION:Blessed Mary Angela Roman Catholic Church of St. Hyacinth 295 
	Lake Shore Drive East  Dunkirk NY 14048
GEO:42.4913373;-79.3197934
END:VEVENT
END:VCALENDAR