BEGIN:VCALENDAR
VERSION:2.0
PRODID:-//Tukios.com/
BEGIN:VEVENT
UID:a8ccbc7d-70c1-4bc4-ae60-fb1dc598baca@www.rmackowiak.com
DTSTAMP:20260420T235131Z
DTSTART:20260423T200000Z
DTEND:20260423T230000Z
SUMMARY:Visitation
DESCRIPTION:
URL:https://www.rmackowiak.com/obituaries/florence-cybart
LOCATION:R. Mackowiak Funeral Home, Inc 56 East Doughty Street  Dunkirk 
	NY 14048
GEO:42.4818004;-79.3164486
END:VEVENT
END:VCALENDAR